BEGIN:VCALENDAR
VERSION:2.0
PRODID:-//tech from below//Event//DE
CALSCALE:GREGORIAN
METHOD:PUBLISH
X-WR-CALNAME:tech from below
X-WR-TIMEZONE:Europe/Berlin
BEGIN:VTIMEZONE
TZID:Europe/Berlin
BEGIN:DAYLIGHT
TZOFFSETFROM:+0100
TZOFFSETTO:+0200
TZNAME:CEST
DTSTART:19700329T020000
RRULE:FREQ=YEARLY;BYMONTH=3;BYDAY=-1SU
END:DAYLIGHT
BEGIN:STANDARD
TZOFFSETFROM:+0200
TZOFFSETTO:+0100
TZNAME:CET
DTSTART:19701025T030000
RRULE:FREQ=YEARLY;BYMONTH=10;BYDAY=-1SU
END:STANDARD
END:VTIMEZONE
BEGIN:VEVENT
UID:https://techfrombelow.de/2026-11-05/
DTSTAMP:20260420T030014Z
DTSTART;TZID=Europe/Berlin:20261105T190000
DTEND;TZID=Europe/Berlin:20261105T210000
SUMMARY:tech from below: 18. Treffen
LOCATION:Wikimedia Deutschland\, Tempelhofer Ufer 23/24\, 10963 Berlin
DESCRIPTION:Tech from below geht in die 18. Runde: Am 5. November komm
 en wieder Aktivist:innen und Developer zum Austausch über die besten 
 Tools für soziale Bewegungen zusammen. Auf spannende Talks folgen Dis
 kussionen über Best Practices und Lessons Learned. Wenn Du mehr Klass
 enkampf in Deine App bringen willst\, oder eine App für Deinen Kampf 
 gegen Klimakrise oder Ausbeutung suchst\, ist das Meetup für Dich.\nE
 ingeladen sind Entwickler:innen und Menschen ohne Tech-Background\, d
 ie sich in linken emanzipatorischen Bewegungen engagieren oder auf de
 r Suche danach sind.\nAll are welcome - egal welches Skill-Level. Uns
 ere Vorträge sind so aufgebaut\, dass die ersten 15 Min für alle vers
 tändlich sein müssen\, erst am Ende geht es um technische Details und
  Code. Also kommt vorbei\, wenn euch das Thema interessiert\, egal wi
 e gut ihr programmieren könnt.\nProgramm Das Programm wird rechtzeiti
 g vor dem Event bekannt gegeben.\nWir informieren Euch rechtzeitig hi
 er\, auf Social Media oder über unseren Newsletter. Schon abonniert?\
 nE-Mail-Adresse Wann &amp;amp; Wo? Zeit: 5. November 2026\, 19 Uhr (Einla
 ss 18.30 Uhr) Ort: Wikimedia Deutschland\, Tempelhofer Ufer 23/24\, 1
 0963 Berlin (Hinweise zur Barrierefreiheit)\nAdresse öffnen in Google
  Maps\, Apple Maps oder OSM.\nSprache: Deutsch\nDie Veranstaltung ist
  kostenlos. Keine Anmeldung notwendig. Beim Empfang bei Wikimedia müs
 st ihr euch mit einem beliebigen Namen eintragen.\nBarrierefreiheit Z
 ugang zum Gebäude: Die Veranstaltungsräume befinden sich im ersten Ob
 ergeschoss und sind über einen Aufzug oder über das Treppenhaus errei
 chbar. Der Aufzug ist etwas kleiner als handelsübliche Fahrstühle: di
 e Aufzugstür ist 100 cm breit und die Gesamtmaße der Aufzugskabine be
 tragen 78\,5 cm x 134 cm. Auf Anfrage an techfrombelow@proton.me vers
 uchen wir\, einen alternativen Zugang zu organisieren.\nToiletten: Ak
 tuell stehen keine barrierefreien Toiletten zur Verfügung. Die vorhan
 denen sanitären Einrichtungen vor Ort sind etwas schmaler: Die Eingan
 gstüren der Toiletten sind 68\,5 cm breit und haben eine Stufenschwel
 le mit einer Höhe von 1\,5 cm bzw. 4\,0 cm. Die Toilettenkabinen habe
 n eine Türbreite von 56 cm. Auf Anfrage versuchen wir\, eine barriere
 freie mobile Toilette zu organisieren. Über eine frühzeitige Kontakta
 ufnahme unter techfrombelow@proton.me freuen wir uns.\nFragen per E-M
 ail an techfrombelow@proton.me.\n
URL:https://techfrombelow.de/2026-11-05/
STATUS:CONFIRMED
SEQUENCE:0
END:VEVENT
END:VCALENDAR
