BEGIN:VCALENDAR
VERSION:2.0
PRODID:-//tech from below//Event//DE
CALSCALE:GREGORIAN
METHOD:PUBLISH
X-WR-CALNAME:tech from below
X-WR-TIMEZONE:Europe/Berlin
BEGIN:VTIMEZONE
TZID:Europe/Berlin
BEGIN:DAYLIGHT
TZOFFSETFROM:+0100
TZOFFSETTO:+0200
TZNAME:CEST
DTSTART:19700329T020000
RRULE:FREQ=YEARLY;BYMONTH=3;BYDAY=-1SU
END:DAYLIGHT
BEGIN:STANDARD
TZOFFSETFROM:+0200
TZOFFSETTO:+0100
TZNAME:CET
DTSTART:19701025T030000
RRULE:FREQ=YEARLY;BYMONTH=10;BYDAY=-1SU
END:STANDARD
END:VTIMEZONE
BEGIN:VEVENT
UID:https://techfrombelow.de/2026-09-17/
DTSTAMP:20260420T030014Z
DTSTART;TZID=Europe/Berlin:20260917T190000
DTEND;TZID=Europe/Berlin:20260917T210000
SUMMARY:tech from below: 17. Treffen
LOCATION:Wikimedia Deutschland\, Tempelhofer Ufer 23/24\, 10963 Berlin
DESCRIPTION:Tech from below geht in die 17. Runde: Am 17. September ko
 mmen wieder Aktivist:innen und Developer zum Austausch über die beste
 n Tools für soziale Bewegungen zusammen. Auf spannende Talks folgen D
 iskussionen über Best Practices und Lessons Learned. Wenn Du mehr Kla
 ssenkampf in Deine App bringen willst\, oder eine App für Deinen Kamp
 f gegen Klimakrise oder Ausbeutung suchst\, ist das Meetup für Dich.\
 nEingeladen sind Entwickler:innen und Menschen ohne Tech-Background\,
  die sich in linken emanzipatorischen Bewegungen engagieren oder auf 
 der Suche danach sind.\nAll are welcome - egal welches Skill-Level. U
 nsere Vorträge sind so aufgebaut\, dass die ersten 15 Min für alle ve
 rständlich sein müssen\, erst am Ende geht es um technische Details u
 nd Code. Also kommt vorbei\, wenn euch das Thema interessiert\, egal 
 wie gut ihr programmieren könnt.\nProgramm Das Programm wird rechtzei
 tig vor dem Event bekannt gegeben.\nWir informieren Euch rechtzeitig 
 hier\, auf Social Media oder über unseren Newsletter. Schon abonniert
 ?\nE-Mail-Adresse Wann &amp;amp; Wo? Zeit: 17. September 2026\, 19 Uhr (E
 inlass 18.30 Uhr) Ort: Wikimedia Deutschland\, Tempelhofer Ufer 23/24
 \, 10963 Berlin (Hinweise zur Barrierefreiheit)\nAdresse öffnen in Go
 ogle Maps\, Apple Maps oder OSM.\nSprache: Deutsch\nDie Veranstaltung
  ist kostenlos. Keine Anmeldung notwendig. Beim Empfang bei Wikimedia
  müsst ihr euch mit einem beliebigen Namen eintragen.\nBarrierefreihe
 it Zugang zum Gebäude: Die Veranstaltungsräume befinden sich im erste
 n Obergeschoss und sind über einen Aufzug oder über das Treppenhaus e
 rreichbar. Der Aufzug ist etwas kleiner als handelsübliche Fahrstühle
 : die Aufzugstür ist 100 cm breit und die Gesamtmaße der Aufzugskabin
 e betragen 78\,5 cm x 134 cm. Auf Anfrage an techfrombelow@proton.me 
 versuchen wir\, einen alternativen Zugang zu organisieren.\nToiletten
 : Aktuell stehen keine barrierefreien Toiletten zur Verfügung. Die vo
 rhandenen sanitären Einrichtungen vor Ort sind etwas schmaler: Die Ei
 ngangstüren der Toiletten sind 68\,5 cm breit und haben eine Stufensc
 hwelle mit einer Höhe von 1\,5 cm bzw. 4\,0 cm. Die Toilettenkabinen 
 haben eine Türbreite von 56 cm. Auf Anfrage versuchen wir\, eine barr
 ierefreie mobile Toilette zu organisieren. Über eine frühzeitige Kont
 aktaufnahme unter techfrombelow@proton.me freuen wir uns.\nFragen per
  E-Mail an techfrombelow@proton.me.\n
URL:https://techfrombelow.de/2026-09-17/
STATUS:CONFIRMED
SEQUENCE:0
END:VEVENT
END:VCALENDAR
