BEGIN:VCALENDAR
VERSION:2.0
PRODID:-//tech from below//Event//DE
CALSCALE:GREGORIAN
METHOD:PUBLISH
X-WR-CALNAME:tech from below
X-WR-TIMEZONE:Europe/Berlin
BEGIN:VTIMEZONE
TZID:Europe/Berlin
BEGIN:DAYLIGHT
TZOFFSETFROM:+0100
TZOFFSETTO:+0200
TZNAME:CEST
DTSTART:19700329T020000
RRULE:FREQ=YEARLY;BYMONTH=3;BYDAY=-1SU
END:DAYLIGHT
BEGIN:STANDARD
TZOFFSETFROM:+0200
TZOFFSETTO:+0100
TZNAME:CET
DTSTART:19701025T030000
RRULE:FREQ=YEARLY;BYMONTH=10;BYDAY=-1SU
END:STANDARD
END:VTIMEZONE
BEGIN:VEVENT
UID:https://techfrombelow.de/2025-09-04/
DTSTAMP:20260423T030021Z
DTSTART;TZID=Europe/Berlin:20250904T190000
DTEND;TZID=Europe/Berlin:20250904T210000
SUMMARY:tech from below: 12. Treffen
DESCRIPTION:Tech from below geht in die 12. Runde: Am 4. September kom
 men wieder Aktivist:innen und Developer zum Austausch über die besten
  Tools für soziale Bewegungen zusammen. Auf spannende Talks folgen Di
 skussionen über Best Practices und Lessons Learned. Wenn Du mehr Klas
 senkampf in Deine App bringen willst\, oder eine App für Deinen Kampf
  gegen Klimakrise oder Ausbeutung suchst\, ist das Meetup für Dich.\n
 Eingeladen sind Entwickler:innen\, sowohl als auch Menschen ohne Tech
 -Background\, die sich in linken emanzipatorischen Bewegungen engagie
 ren oder auf der Suche danach sind. All are welcome - egal welches Sk
 ill-Level.\nProgramm\nsfi – Tracing Human Rights Abuses Through 16\,0
 00 Disparate Links in Command Chains In collaboration with Security F
 orce Monitor\, DOT • STUDIO developed a time‑based graph system to ma
 p complex\, shifting military command structures. Powered by Datalog 
 databases and a novel data model\, the platform connects 16\,000 meti
 culously sourced facts to reveal command chains\, supporting journali
 sts\, researchers\, and potential courtroom investigations. Dieser Vo
 rtrag wird auf Englisch sein\, in die Diskussion und das Q&amp;amp;A könn
 en sich alle auch auf Deutsch einbringen.\nDas Software-Kollektiv in 
 Arbeiter*innenhand ctrl.alt.coop stellt sich vor Mehr Details zum Vor
 trag folgen in Kürze.\n&amp;ldquo;Building radar-event-creator&amp;rdquo; - E
 in WP-Plugin für Bewegungs-Kalender Ein Vortrag von zwei Personen die
  sich beim Tech-From-Below im Februar gefunden haben um technische Pr
 ozesse beim Bündnis &amp;ldquo;Mietenwahnsinn&amp;rdquo; zu vereinfachen. Es 
 wird die Event‑Plattform Radar vorgestellt und allgemein über autonom
 e digitale Infrastruktur gesprochen. Außerdem geht es um die Entwickl
 ung eines WordPress Plugins und die Prozesse drumherum&amp;hellip;\nZeit:
  4. September 2025\, 19 Uhr (Einlass 18.30 Uhr) Ort: Wikimedia Deutsc
 hland\, Tempelhofer Ufer 23/24\, 10963 Berlin (barrierefreier Zugang 
 ist möglich)\nAdresse öffnen in Google Maps\, Apple Maps oder OSM.\nS
 prache: Deutsch mit einem englischen Input\nDie Veranstaltung ist kos
 tenlos. Keine Anmeldung notwendig. Beim Empfang bei Wikimedia müsst i
 hr euch mit einem beliebigen Namen eintragen.\nFragen per E-Mail an t
 echfrombelow@proton.me.\n\n\nMehr Informationen: https://techfrombelo
 w.de/2025-09-04/
URL:https://techfrombelow.de/2025-09-04/
STATUS:CONFIRMED
SEQUENCE:0
END:VEVENT
END:VCALENDAR
