BEGIN:VCALENDAR
VERSION:2.0
PRODID:-//tech from below//Event//DE
CALSCALE:GREGORIAN
METHOD:PUBLISH
X-WR-CALNAME:tech from below
X-WR-TIMEZONE:Europe/Berlin
BEGIN:VTIMEZONE
TZID:Europe/Berlin
BEGIN:DAYLIGHT
TZOFFSETFROM:+0100
TZOFFSETTO:+0200
TZNAME:CEST
DTSTART:19700329T020000
RRULE:FREQ=YEARLY;BYMONTH=3;BYDAY=-1SU
END:DAYLIGHT
BEGIN:STANDARD
TZOFFSETFROM:+0200
TZOFFSETTO:+0100
TZNAME:CET
DTSTART:19701025T030000
RRULE:FREQ=YEARLY;BYMONTH=10;BYDAY=-1SU
END:STANDARD
END:VTIMEZONE
BEGIN:VEVENT
UID:https://techfrombelow.de/2025-07-24/
DTSTAMP:20260423T030021Z
DTSTART;TZID=Europe/Berlin:20250724T190000
DTEND;TZID=Europe/Berlin:20250724T210000
SUMMARY:tech from below: Stammtisch
DESCRIPTION:Lockerer Austausch in geselliger Runde im Biergarten. Brin
 gt gerne Friends mit!\nZeit: 24. Juli 2025\, 19 Uhr Ort: Biergarten J
 ockel\, Ratiborstraße 14c\, 10999 Berlin https://biergartenjockel.de\
 n\n\nMehr Informationen: https://techfrombelow.de/2025-07-24/
URL:https://techfrombelow.de/2025-07-24/
STATUS:CONFIRMED
SEQUENCE:0
END:VEVENT
END:VCALENDAR
