BEGIN:VCALENDAR
VERSION:2.0
PRODID:-//tech from below//Event//DE
CALSCALE:GREGORIAN
METHOD:PUBLISH
X-WR-CALNAME:tech from below
X-WR-TIMEZONE:Europe/Berlin
BEGIN:VTIMEZONE
TZID:Europe/Berlin
BEGIN:DAYLIGHT
TZOFFSETFROM:+0100
TZOFFSETTO:+0200
TZNAME:CEST
DTSTART:19700329T020000
RRULE:FREQ=YEARLY;BYMONTH=3;BYDAY=-1SU
END:DAYLIGHT
BEGIN:STANDARD
TZOFFSETFROM:+0200
TZOFFSETTO:+0100
TZNAME:CET
DTSTART:19701025T030000
RRULE:FREQ=YEARLY;BYMONTH=10;BYDAY=-1SU
END:STANDARD
END:VTIMEZONE
BEGIN:VEVENT
UID:https://techfrombelow.de/2024-12-28/
DTSTAMP:20260424T030016Z
DTSTART;TZID=Europe/Berlin:20241228T180000
DTEND;TZID=Europe/Berlin:20241228T200000
SUMMARY:tech from below: 38C3-Spezial
DESCRIPTION:Liebe Leute\nknapp vor Weihnachten haben wir noch eine fro
 he Botschaft für Euch: Wir sind auf dem 38c3 - dem Chaos Communicatio
 n Congress in Hamburg dieses Jahr\, vom 27. - 30. Dezember!\nUnsere g
 anze Crew schwirrt mit Stickern durch die Gegend und es wird an TAG 2
  ein kleines Meetup-Special geben. Dort könnt ihr eure Projekte pitch
 en\, Fragen an die Community richten oder euch einfach mit alten und 
 neuen Gesichtern vernetzen.\nWann? 28. Dezember\, 18:00 - 19:00 Uhr\n
 Wo? SoS Saal E\nDetails im Programm der Self-Organized Sessions: http
 s://events.ccc.de/congress/2024/hub/en/event/tech-from-below/\n\n\nMe
 hr Informationen: https://techfrombelow.de/2024-12-28/
URL:https://techfrombelow.de/2024-12-28/
STATUS:CONFIRMED
SEQUENCE:0
END:VEVENT
END:VCALENDAR
