BEGIN:VCALENDAR
VERSION:2.0
PRODID:-//tech from below//Event//DE
CALSCALE:GREGORIAN
METHOD:PUBLISH
X-WR-CALNAME:tech from below
X-WR-TIMEZONE:Europe/Berlin
BEGIN:VTIMEZONE
TZID:Europe/Berlin
BEGIN:DAYLIGHT
TZOFFSETFROM:+0100
TZOFFSETTO:+0200
TZNAME:CEST
DTSTART:19700329T020000
RRULE:FREQ=YEARLY;BYMONTH=3;BYDAY=-1SU
END:DAYLIGHT
BEGIN:STANDARD
TZOFFSETFROM:+0200
TZOFFSETTO:+0100
TZNAME:CET
DTSTART:19701025T030000
RRULE:FREQ=YEARLY;BYMONTH=10;BYDAY=-1SU
END:STANDARD
END:VTIMEZONE
BEGIN:VEVENT
UID:https://techfrombelow.de/2024-02-22/
DTSTAMP:20260424T030016Z
DTSTART;TZID=Europe/Berlin:20240222T190000
DTEND;TZID=Europe/Berlin:20240222T210000
SUMMARY:tech from below: 6. Treffen
DESCRIPTION:Beim tech from below Meetup kommen Aktivist:innen und Deve
 loper zum Austausch über die besten Tools für soziale Bewegungen zusa
 mmen. Am 22. Februar treffen wir uns bereits zum sechsten Mal. Dann s
 tellen sich wieder linke Tech-Initiativen vor\, und wir diskutieren d
 anach über Best Practices und Lessons Learned. Bei der kurzen Pitchru
 nde am Ende hören wir von neuen Projekten\, die gerade im Entstehen s
 ind und schaffen Raum für Vernetzung und gegenseitigen Support.\nEing
 eladen sind Entwickler:innen\, sowohl als auch Menschen ohne Tech-Bac
 kground\, die sich in linken emanzipatorischen Bewegungen engagieren 
 oder auf der Suche danach sind – ob im Klimaschutz\, Mietenkampf oder
  Initiativen gegen Rechts.\nProgramm\n&amp;ldquo;The Wikibase software an
 d grassroots initiatives&amp;rdquo;: Christos Varvantakis und Alang Ang v
 on Wikimedia Deutschland werden (in Englisch) berichten\, wie Grasswu
 rzel-Bewegungnen ihre Wikibase-Software nutzen können\, um Daten für 
 politische Zwecke zu nutzen.\nMehr als “Beziehungstat” – Eine Datenba
 nk zu Femi(ni)ziden in Deutschland. feminizidmap.org. Seit 2019 samme
 ln Freiwillige im Projekt Feminizidmap Daten zu Tötungen von Frauen i
 n Deutschland. Der Anspruch ist eine Datengrundlage für akademische F
 orschung\, Aktivismus und Journalismus zu Femiziden zu schaffen\, wei
 l diese bis heute nicht von staatlich-institutioneller Seite erfasst 
 werden.\nBibBot – Medienvielfalt muss man sich leisten können. Ziel\,
  Geschichte und Technik der Browser-Erweiterung BibBot\, mit der sich
  viele Paywall-Artikel von Nachrichtenseiten über das Online-Angebot 
 einer Bibliothek lesen lassen.\nPitchrunde - Kurzvorstellungen von la
 ufenden Projekten\nZeit: 22. Februar 2024\, 19 Uhr (Einlass 18.30 Uhr
 ) Ort: Wikimedia Deutschland\, Tempelhofer Ufer 23/24\, 10963 Berlin 
 (barrierefreier Zugang ist möglich)\nAdresse öffnen in Google Maps\, 
 Apple Maps oder OSM.\nBeim Empfang bei Wikimedia müsst ihr euch mit e
 inem beliebigen Namen anmelden.\nSprache: Deutsch (ein Vortrag wird i
 n Englisch stattfinden)\nDie Veranstaltung ist kostenlos. Keine Anmel
 dung notwendig. Fragen per E-Mail an techfrombelow@proton.me.\n\n\nMe
 hr Informationen: https://techfrombelow.de/2024-02-22/
URL:https://techfrombelow.de/2024-02-22/
STATUS:CONFIRMED
SEQUENCE:0
END:VEVENT
END:VCALENDAR
