BEGIN:VCALENDAR
VERSION:2.0
PRODID:-//tech from below//Event//DE
CALSCALE:GREGORIAN
METHOD:PUBLISH
X-WR-CALNAME:tech from below
X-WR-TIMEZONE:Europe/Berlin
BEGIN:VTIMEZONE
TZID:Europe/Berlin
BEGIN:DAYLIGHT
TZOFFSETFROM:+0100
TZOFFSETTO:+0200
TZNAME:CEST
DTSTART:19700329T020000
RRULE:FREQ=YEARLY;BYMONTH=3;BYDAY=-1SU
END:DAYLIGHT
BEGIN:STANDARD
TZOFFSETFROM:+0200
TZOFFSETTO:+0100
TZNAME:CET
DTSTART:19701025T030000
RRULE:FREQ=YEARLY;BYMONTH=10;BYDAY=-1SU
END:STANDARD
END:VTIMEZONE
BEGIN:VEVENT
UID:https://techfrombelow.de/2023-11-16/
DTSTAMP:20260424T030016Z
DTSTART;TZID=Europe/Berlin:20231116T190000
DTEND;TZID=Europe/Berlin:20231116T210000
SUMMARY:tech from below: 5. Treffen
DESCRIPTION:Beim nächsten tech from below Meetup am 16. November laden
  wir wieder Aktivist:innen und Developer zum Austausch über die beste
 n Tools für soziale Bewegungen ein. Auf spannende Talks\, bei denen s
 ich linke Tech-Initiativen vorstellen\, folgen Diskussionen über Best
  Practices und Lessons Learned. Bei der kurzen Pitchrunde am Ende hör
 en wir von neuen Projekten\, die gerade im Entstehen sind und schaffe
 n Raum für Vernetzung und gegenseitigen Support.\nEingeladen sind Ent
 wickler:innen\, sowohl als auch Menschen ohne Tech-Background\, die s
 ich in linken emanzipatorischen Bewegungen engagieren oder auf der Su
 che danach sind – ob im Klimaschutz\, Mietenkampf oder Initiativen ge
 gen Rechts.\nProgramm:\nEinfach Einsteigen zeigt uns\, mit welchen To
 ols sie ihre Initiative für die Verkehrswende am Laufen halten.\nMai 
 von SearchWing gibt einen Einblick in die Technologie zur Rettung von
  Flüchtenden im Mittelmeer.\nWir hören von Demos\, wie sie Zivilgesel
 lschaft sichtbarer und zugänglicher machen wollen.\nKurzpitches von l
 aufenden Projekten\nZeit: 16. November 2023\, 19 Uhr (Einlass 18.30 U
 hr) Ort: Wikimedia Deutschland\, Tempelhofer Ufer 23/24\, 10963 Berli
 n (barrierefreier Zugang ist möglich)\nAdresse öffnen in Google Maps\
 , Apple Maps oder OSM.\nBeim Empfang bei Wikimedia müsst ihr euch mit
  einem beliebigen Namen anmelden.\nSprache: Deutsch\nDie Veranstaltun
 g ist kostenlos. Keine Anmeldung notwendig. Fragen per E-Mail an tech
 frombelow@proton.me.\n\n\nMehr Informationen: https://techfrombelow.d
 e/2023-11-16/
URL:https://techfrombelow.de/2023-11-16/
STATUS:CONFIRMED
SEQUENCE:0
END:VEVENT
END:VCALENDAR
