BEGIN:VCALENDAR
VERSION:2.0
PRODID:-//tech from below//Event//DE
CALSCALE:GREGORIAN
METHOD:PUBLISH
X-WR-CALNAME:tech from below
X-WR-TIMEZONE:Europe/Berlin
BEGIN:VTIMEZONE
TZID:Europe/Berlin
BEGIN:DAYLIGHT
TZOFFSETFROM:+0100
TZOFFSETTO:+0200
TZNAME:CEST
DTSTART:19700329T020000
RRULE:FREQ=YEARLY;BYMONTH=3;BYDAY=-1SU
END:DAYLIGHT
BEGIN:STANDARD
TZOFFSETFROM:+0200
TZOFFSETTO:+0100
TZNAME:CET
DTSTART:19701025T030000
RRULE:FREQ=YEARLY;BYMONTH=10;BYDAY=-1SU
END:STANDARD
END:VTIMEZONE
BEGIN:VEVENT
UID:https://techfrombelow.de/2023-05-17/
DTSTAMP:20260424T030016Z
DTSTART;TZID=Europe/Berlin:20230517T000532
DTEND;TZID=Europe/Berlin:20230517T020532
SUMMARY:tech from below: Code Night mit activist.org
DESCRIPTION:Wie bereits beim letzten Meetup angekündigt\, wollen wir p
 olitische Projekte auch bei der Entwicklung von Tools aktiv unterstüt
 zen. Das probieren nun das erste mal in einem neuen Format aus. Am 17
 . Mai findet die erste tech from below Code Night statt\, bei der wir
  zusammen an der Plattform activist.org coden wollen.\nKommt vorbei. 
 Es gibt Bier und Pizza.\nZeit: 17. Mai 2023\, 19 Uhr Ort: Cultivation
  Space\, Gottschedstrasse 4\, exRotaprint Aufgang 4\, 13357 Berlin (n
 icht barrierefrei)\nDie Veranstaltung ist kostenlos. Keine Anmeldung 
 notwendig. Fragen per E-Mail an techfrombelow@proton.me.\n\n\nMehr In
 formationen: https://techfrombelow.de/2023-05-17/
URL:https://techfrombelow.de/2023-05-17/
STATUS:CONFIRMED
SEQUENCE:0
END:VEVENT
END:VCALENDAR
