BEGIN:VCALENDAR
VERSION:2.0
PRODID:-//tech from below//Event//DE
CALSCALE:GREGORIAN
METHOD:PUBLISH
X-WR-CALNAME:tech from below
X-WR-TIMEZONE:Europe/Berlin
BEGIN:VTIMEZONE
TZID:Europe/Berlin
BEGIN:DAYLIGHT
TZOFFSETFROM:+0100
TZOFFSETTO:+0200
TZNAME:CEST
DTSTART:19700329T020000
RRULE:FREQ=YEARLY;BYMONTH=3;BYDAY=-1SU
END:DAYLIGHT
BEGIN:STANDARD
TZOFFSETFROM:+0200
TZOFFSETTO:+0100
TZNAME:CET
DTSTART:19701025T030000
RRULE:FREQ=YEARLY;BYMONTH=10;BYDAY=-1SU
END:STANDARD
END:VTIMEZONE
BEGIN:VEVENT
UID:https://techfrombelow.de/2023-02-16/
DTSTAMP:20260424T030016Z
DTSTART;TZID=Europe/Berlin:20230216T000532
DTEND;TZID=Europe/Berlin:20230216T020532
SUMMARY:tech from below: 2. Treffen
DESCRIPTION:Beim zweiten tech from below Meetup am 16. Februar wollen 
 wir wieder Menschen aus sozialen Bewegungen mit Tech-Expert:innen zus
 ammenbringen. Noch immer mangelt es vielen Gruppen an technischem Kno
 w-how oder Infrastruktur\, und viele Entwickler:innen kennen die sozi
 alen Kämpfe\, die sie unterstützen wollen\, nicht gut genug. Beim Mee
 tup in Berlin wollen wir den Austausch zu Best Practices und Lessons 
 Learned fördern\, Developer und Aktive vernetzen.\nDieses Mal stellt 
 Justus Klein die CopMap vor\, eine interaktive Karte zum Melden von P
 olizeikontrollen. Marie Kochsiek erzählt von der open-source und gend
 er-inklusiven Perioden-Tracking-App Drip.\nIm zweiten Teil des Abends
  wollen wir über konkrete Projektideen in den Austausch gehen\, die g
 erade im Entstehen sind. Bis zu fünf Ideen werden in kurzen Pitches v
 orgestellt. Wer Lust hat\, kann sich danach in Kleingruppen darüber a
 ustauschen.\nEingeladen sind Entwickler:innen\, sowohl als auch Mensc
 hen ohne Tech-Background\, die sich in linken emanzipatorischen Beweg
 ungen engagieren oder auf der Suche danach sind – ob im Klimaschutz\,
  Mietenkampf oder beim Engagement gegen Rechts.\nZeit: 16. Februar 20
 23\, 19 Uhr Ort: ver.di MedienGalerie\, Dudenstraße 10\, 10965 Berlin
  (barrierefrei). Kein Livestream oder Aufzeichnung.\nSprache: Deutsch
 \nDie Veranstaltung ist kostenlos. Keine Anmeldung notwendig. Fragen 
 per E-Mail an techfrombelow@proton.me.\n\n\nMehr Informationen: https
 ://techfrombelow.de/2023-02-16/
URL:https://techfrombelow.de/2023-02-16/
STATUS:CONFIRMED
SEQUENCE:0
END:VEVENT
END:VCALENDAR
