BEGIN:VCALENDAR
VERSION:2.0
PRODID:-//tech from below//Event//DE
CALSCALE:GREGORIAN
METHOD:PUBLISH
X-WR-CALNAME:tech from below
X-WR-TIMEZONE:Europe/Berlin
BEGIN:VTIMEZONE
TZID:Europe/Berlin
BEGIN:DAYLIGHT
TZOFFSETFROM:+0100
TZOFFSETTO:+0200
TZNAME:CEST
DTSTART:19700329T020000
RRULE:FREQ=YEARLY;BYMONTH=3;BYDAY=-1SU
END:DAYLIGHT
BEGIN:STANDARD
TZOFFSETFROM:+0200
TZOFFSETTO:+0100
TZNAME:CET
DTSTART:19701025T030000
RRULE:FREQ=YEARLY;BYMONTH=10;BYDAY=-1SU
END:STANDARD
END:VTIMEZONE
BEGIN:VEVENT
UID:https://techfrombelow.de/2022-10-06/
DTSTAMP:20260420T030014Z
DTSTART;TZID=Europe/Berlin:20221006T000532
DTEND;TZID=Europe/Berlin:20221006T020532
SUMMARY:tech from below: 1. Treffen
DESCRIPTION:Beim tech from below Meetup am 6. Oktober wollen wir Mensc
 hen aus sozialen Bewegungen mit Tech-Expert:innen zusammenbringen. Di
 gitale Tools sind zwar unversichtbar im Kampf gegen Klimakrise\, kapi
 talistische Verwertungslogiken oder globale Ungleichheiten. Doch viel
 en Gruppen mangelt es an technischem Know-How oder Infrastruktur um s
 ich gut zu organisieren. Gleichzeitig kennen viele Entwickler:innen d
 ie sozialen Kämpfe\, die sie unterstützen wollen\, nicht gut genug. D
 och Software für politische Zwecke muss sich eng an den Anforderungen
  der Bewegung orientieren und “Auf der Straße” funktionieren.\nWir wo
 llen den Austausch zu Best Practices und Lessons Learned fördern\, un
 d Entwickler:innen mit politischen Initiativen vernetzen\, die techni
 sche Unterstützung suchen. Dieses mal stellen Aktive der Kampagne “De
 utsche Wohnen &amp;amp; Co enteignen” ihre Tools vor und Software-Entwick
 ler:innen berichten über Tech-Support für Gewerkschaften im Arbeitska
 mpf.\nEingeladen sind Entwickler:innen\, sowohl als auch Menschen ohn
 e Tech-Background\, die sich in linken emanzipatorischen Bewegungen e
 ngagieren oder auf der Suche danach sind – ob im Klimaschutz\, Mieten
 kampf oder beim Engagement gegen Rechts.\nZeit: 6. Oktober 2022\, 19 
 Uhr Ort: ver.di MedienGalerie\, Dudenstraße 10\, 10965 Berlin (barrie
 refrei)\nSprache: Deutsch\nVorträge:\nLeonard Haas: Die Chancen und G
 renzen von Data-driven campaigning bei der Kampagne “Deutsche Wohnen 
 &amp;amp; Co enteignen” Wie lassen sich gemeinsam mit Gewerkschaften digi
 talen Tools für Arbeitskämpfe entwickeln? Johannes Filter/CILIP: Tödl
 iche Polizeischüsse in Deutschland. Über die Entwicklung einer offene
 n Online-Datenbank. Die Veranstaltung ist Kostenlos. Keine Anmeldung 
 notwendig. Fragen per Email an techfrombelow@proton.me\n\n\nMehr Info
 rmationen: https://techfrombelow.de/2022-10-06/
URL:https://techfrombelow.de/2022-10-06/
STATUS:CONFIRMED
SEQUENCE:0
END:VEVENT
END:VCALENDAR
